BEGIN:VCALENDAR
VERSION:2.0
PRODID:-//Indiana State Association of Health Underwriters - ECPv6.15.18//NONSGML v1.0//EN
CALSCALE:GREGORIAN
METHOD:PUBLISH
X-ORIGINAL-URL:https://isahu.org
X-WR-CALDESC:Events for Indiana State Association of Health Underwriters
REFRESH-INTERVAL;VALUE=DURATION:PT1H
X-Robots-Tag:noindex
X-PUBLISHED-TTL:PT1H
BEGIN:VTIMEZONE
TZID:America/Indiana/Indianapolis
BEGIN:DAYLIGHT
TZOFFSETFROM:-0500
TZOFFSETTO:-0400
TZNAME:EDT
DTSTART:20200308T070000
END:DAYLIGHT
BEGIN:STANDARD
TZOFFSETFROM:-0400
TZOFFSETTO:-0500
TZNAME:EST
DTSTART:20201101T060000
END:STANDARD
BEGIN:DAYLIGHT
TZOFFSETFROM:-0500
TZOFFSETTO:-0400
TZNAME:EDT
DTSTART:20210314T070000
END:DAYLIGHT
BEGIN:STANDARD
TZOFFSETFROM:-0400
TZOFFSETTO:-0500
TZNAME:EST
DTSTART:20211107T060000
END:STANDARD
BEGIN:DAYLIGHT
TZOFFSETFROM:-0500
TZOFFSETTO:-0400
TZNAME:EDT
DTSTART:20220313T070000
END:DAYLIGHT
BEGIN:STANDARD
TZOFFSETFROM:-0400
TZOFFSETTO:-0500
TZNAME:EST
DTSTART:20221106T060000
END:STANDARD
END:VTIMEZONE
BEGIN:VEVENT
DTSTART;TZID=America/Indiana/Indianapolis:20210908T130000
DTEND;TZID=America/Indiana/Indianapolis:20210908T163000
DTSTAMP:20260423T110107
CREATED:20210816T161405Z
LAST-MODIFIED:20210831T184919Z
UID:9066-1631106000-1631118600@isahu.org
SUMMARY:ISAHU Topgolf Legislative Event – Legislators and Links!
DESCRIPTION:This event will tee off with scheduled ‘speakers and Q&A’ with US Senator Todd Young and Indiana State Congresswoman Victoria Spartz. There are a number of key issues being debated in Washington DC right now\, and this will be your opportunity to hear directly from these two Federal legislators.  Of special note\, Congresswoman Spartz was recently appointed to be part of the new Health Care Policy Task Force. In addition to our guest speakers\, there will be appetizers\, an assortment of non-alcoholic beverages\, 2-hours of Topgolf fun\, networking\, and a cash bar will also be available.  This is truly going to be a unique event! \n\n\n\nSenator Young is not soliciting funds for this event. \n\n\n\n1:00 Registration check-in1:30-2:30 Speakers2:30-4:30 Topgolf begins \n\n\n\nAbout Todd\n\n\n\nSenator Todd Young represents the state of Indiana. He currently serves on the U.S. Senate Committees on Finance; Foreign Relations; Commerce\, Science & Transportation; and Small Business and Entrepreneurship. Previously\, in the House\, he served on the House Armed Services Committee\, the House Budget Committee\, and most recently the House Ways and Means Committee.Read More \n\n\n\nAbout Victoria\n\n\n\nCongresswoman Victoria Spartz immigrated to the United States in 2000 after meeting her husband Jason\, a born and raised Hoosier\, on a train in Europe. She became a US Citizen and worked her way up from being a bank teller to a CPA\, finance executive\, successful business owner\, and Indiana State Senator. \n\n\n\nGrowing up in Ukraine molded her conservative political philosophy that limited government is always better\, and financial and healthcare decisions should be made by individuals in the free market\, not bureaucrats and special interests.Read More \n\n\n\nBecause of Topgolf event space\, food planning\, and golfing bay logistics\, we are strongly encouraging Early Registration by offering a reduced fee of $15 for NAHU members; $20 for non-members (Early Registration fee cost break deadline is Wed.\, September 1st)Non-Early registration fee (On/after Thurs.\, September 2nd or later)- $25 for NAHU members; $30 for non-members
URL:https://isahu.org/event/isahu-top-golf-legislative-event-legislators-and-links/
LOCATION:Topgolf\, 9200 E 116th St.\, Fishers\, Indiana\, 46037\, United States
ATTACH;FMTTYPE=image/jpeg:https://isahu.org/wp-content/uploads/2018/01/isahu-sharer.jpg
END:VEVENT
BEGIN:VEVENT
DTSTART;TZID=America/Indiana/Indianapolis:20210309T080000
DTEND;TZID=America/Indiana/Indianapolis:20210312T170000
DTSTAMP:20260423T110107
CREATED:20210125T213353Z
LAST-MODIFIED:20210309T153120Z
UID:6236-1615276800-1615568400@isahu.org
SUMMARY:INsure 2021 Medicare and Group Benefits Expo
DESCRIPTION:Get started with vConference\n\n\n\nOur conference host partners at vConference Online are ready to help you with technical issues. Launch vConference and click “Help” in the bottom right to reach a live person during the Expo. \n\n\n\n\nLaunch vConference Online\n\n\n\n\n\n\n\n\nThe INsure Expo opens Monday Morning\, March 8\, 2021. All recorded sessions\, booths\, and conference materials will be available for 45 days following the event. Live sessions will become available as recordings become available. \n\n\n\n\n\n\n\n\n\n\n\n\n\n\nTicket sales for this event have closed. ⚠️ Instructions for accessing vConf and confirming registration were emailed March 4\, 2021 at 9:30 am. Didn’t get the email? Check your spam\, or email info@isahu.org. \n\n\n\n\n\n\n\nThe Friday afternoon Ethics CE requires pre-registration Our instructional partners have requested a pre-registration list by Wednesday\, March 10\, 2021 for the Ethics CE. There is no additional cost\, just an additional registration process.⚠️ Pre-register for the Ethics CE \n\n\n\n\n\n\n\n \n\n\n\n\n\n\n\n\n\n\n\n\n\nISAHU’s most popular events have become the Virtual INsure Health and Benefits Expo\n\n\n\n\n\n\nYou’ll get the best of the previous ISAHU Medicare Summit and ISAHU Convention\, delivered virtually.\n\n\n\nMultiple Medicare and non-Medicare tracks and over a dozen hours of CE and learning\n\n\n\nIndustry-leading presenters and experts\n\n\n\nSave money on admission by becoming a member of NAHU. Start your application here!\n\n\n\nINsure is Indiana’s largest health insurance and benefits event in 2021\n\n\n\n\n\n\n\n\n\n\n\n\n\n\n\n\nExpo Agenda and Tentative Schedule\n\n\n\n\n\n\n\n\n\n\n\nKeep your screen focused! Print this PDF agenda for your desk.\n\n\n\nDownload a print-friendly PDF of this agenda to keep on your desk or desktop.  \n\n\n\nIt’s two pages and contains the schedule\, login instructions\, and other important notes. \n\n\n\n\n\n\n\n\nTuesday\, March 9\, 2021\n8:00 – 9:00 am: Exhibit Hall Open \n\n\n\n9:00-11:00 am: Expo Opening\, NAHU Federal Legislative Updates with John Greene. Includes 1 hour CE\, followed by live Q&A. \n\n\n\n11:00 – 12 noon: Break with sponsors \n\n\n\n12:00 – 1 pm: Lunch (on your own) \n\n\n\n1:00 – 2:00 pm: Session 1 CE: \n\n\n\nOption 1: Medicare Medical Saving Accounts: One type of Medicare Advantage Plan (Craig Ritter\, Lasso Health Plan)Option 2: HIPAA (Jason Karne\, Total HIPAA Compliance)\n\n\n\n\n\n\n\n2:00 – 2:30 pm: Break with sponsors \n\n\n\n2:30 – 3:30 pm: Session 2 CE:  \n\n\n\nOption 1: Telemedicine (Andy Jacobson\, Navigo Heatlh)Option 2: Voluntary Benefits (Bill Bade\, The Sydney Group)\n\n\n\n\n\n\n\n3:30 – 4:00 pm: Break with sponsors \n\n\n\n4:00 – 5:00 pm: Live Zoom + ISAHU Town Hall and Happy Hour \n\n\n\n\nWednesday\, March 10\, 2021\n8:00 – 9:00 am: Exhibit Hall Open \n\n\n\n9:00 – 10:00 am: Improving Quoting Techniques in the Dental Marketplace (Brian Storm\, Delta Dental) \n\n\n\n10:00 – 11:00 am: Flexibility\, Failures\, and the Future of HRAs CE (Steve Jackson\, PrimePay) \n\n\n\n11:00 – 12 noon: Anthem IN Medicare CE (Craig Rubel\, Anthem) \n\n\n\n12:00 – 1 pm: Lunch (on your own) / ISAHU Awards Presentation / Break with Sponsors \n\n\n\n1:00 – 2:00 pm: Navigating HCR (Angie Surra\, Navigate HCR) \n\n\n\n2:00 – 3:00 pm: Coordination of Benefits (Cindy Trahin) \n\n\n\n\n\n\n\n \n\n\n\n\nThursday\, March 11\, 2021\n8:00 – 9:00 am: Exhibit Hall Open \n\n\n\n9:00 – 10:00 am: Improving Quoting Techniques in the Dental Marketplace CE (Brian Storm\, Delta Dental) \n\n\n\n10:00 – 11:00 am: Flexibility\, Failures\, and the Future of HRAs CE (Steve Jackson\, PrimePay) \n\n\n\n11:00 – 12 noon: Anthem IN Medicare CE (Craig Rubel\, Anthem) \n\n\n\n12:00 – 1 pm: Lunch (on your own) / New Hope of Indiana Presentation / Break with Sponsors \n\n\n\n1:00 – 2:00 pm: Navigating HCR (Angie Surra\, Navigate HCR) \n\n\n\n2:00 – 3:00 pm: Coordination of Benefits (Cindy Trahin) \n\n\n\n\n\n\n\n\nFriday\, March 12\, 2021\n8:00 – 9:00 am: Exhibit Hall Open \n\n\n\n9:00 – 10:00 am: Session 1 CE:  \n\n\n\nOption 1: Medicare Medical Saving Accounts: One type of Medicare Advantage Plan (Craig Ritter\, Lasso Health Plan) Option 2: HIPAA (Jason Karne\, Total HIPAA Compliance)\n\n\n\n\n\n\n\n10:00 – 10:30 am: Break with sponsors \n\n\n\n10:30 – 11:30 am: Session 2 CE:  \n\n\n\nOption 1: Telemedicine (Andy Jacobson\, Navigo Heatlh)Option 2: Voluntary Benefits (Bill Bade\, The Sydney Group)\n\n\n\n\n\n\n\n11:30 – 12:30 pm: State Legislative Update (CE pending) – Live Session \n\n\n\n12:30 – 1 pm: Lunch (on your own) + Closing session \n\n\n\n1:30 – 4:30 pm: 3 hour ethics CE with Rick Weston. Pre registration is required to receive CE credit. \n\n\n\n\n\n\n\n\n\n\n\n\n\nFAQs about virtual INsure 2021\n\n\n			\n								\n							\n						\n								\n							\n			What’s changing about the event as originally planned?Circumstances surrounding health and safety have led us to move the INsure Expo to a virtual format. Our conference partner\, vConferenceOnline\, has extensive experience with NAHU chapters around the country. The biggest change for attendees is the timeline. Originally planned for two days\, we’ve organized the new agenda across four days. Multiple sessions will repeat twice in the week\, meaning you can get up to 15 hours of CE (including 3 Ethics CE) in under a week\, as opposed to the originally planned 9. 			\n								\n							\n						\n								\n							\n			Is my original ticket still valid?If you purchased a ticket to INsure at any point prior\, your ticket is still valid. 			\n								\n							\n						\n								\n							\n			How can I check if I purchased a ticket?Check your email! We’ll be sending a confirmation email to all previously-registered attendees as a reminder of their purchase. 			\n								\n							\n						\n								\n							\n			How do I access the new virtual conference?If you’ve registered for the event\, an email has been sent to the email used to register. If you’re signed up\, you can sign in at isahu.org/vconf. 			\n								\n							\n						\n								\n							\n			What about the Medicare Certification from NAHU?Due to scheduling\, attendance\, and format issues\, the NAHU Medicare Certification courses have been removed. These were originally planned  the day before the in-person Expo event in April 2020. 			\n								\n							\n						\n								\n							\n			What should I do to prepare?Consider cleaning up your LinkedIn profile if you haven’t in a while. Get your questions prepared and take a look at our agenda\, sponsors\, and other details as they become available here. 			\n								\n							\n						\n								\n							\n			Can I buy a ticket if I haven’t already?Absolutely! Tickets are $99 for NAHU members and $129 for non-members. If you’ve been thinking of joining\, now is the time at ISAHU.org/join. 			\n								\n							\n						\n								\n							\n			I had a hotel room booked at the Wyndham\, how do I get a refund? Contact the Wyndham West directly at 317-248-2481. \n\n\n\n\n\n\n\n\n\n\n\n\n\n\n\n\nThe 2021 INsure Expo is sponsored in part by:
URL:https://isahu.org/event/insure-2021-medicare-and-group-benefits-expo/
END:VEVENT
BEGIN:VEVENT
DTSTART;TZID=America/Indiana/Indianapolis:20210115T110000
DTEND;TZID=America/Indiana/Indianapolis:20210115T120000
DTSTAMP:20260423T110108
CREATED:20210125T221652Z
LAST-MODIFIED:20210125T221658Z
UID:6246-1610708400-1610712000@isahu.org
SUMMARY:ISAHU/NAIFA Joint Day on the Hill (Indiana)
DESCRIPTION:The first webinar in our Day on the Hill series\, hosted on January 15th\, 2021 from 11am-12pm EST\, will feature Indiana Department of Insurance Commissioner Stephen W. Robertson. \n\n\n\nPlease make sure all questions you have for the Commissioner are submitted via email to Susan Rider by the end of Friday\, January 8th. \n\n\n\nWe hope to see you there! \n\n\nRegister now at Zoom
URL:https://isahu.org/event/isahu-naifa-joint-day-on-the-hill-indiana-2/
END:VEVENT
END:VCALENDAR